BEGIN:VCALENDAR
VERSION:2.0
PRODID:-//eventon.com NONSGML v1.0//EN
CALSCALE:GREGORIAN
METHOD:PUBLISH
BEGIN:VEVENT
UID:69ead75d34203
DTSTAMP:20260424T023717Z
DTSTART:20220713T170000Z
DTEND:20220713T180000Z
LOCATION:
SUMMARY:Fixing Poisoned Cues... At both ends of the leash with Steve White￼
DESCRIPTION:Fixing Poisoned Cues... At both ends of the leash with Steve Wh
 ite￼\nhttps://tagteachmembers.com/events/fixing-poisoned-cues-at-both-end
 s-of-the-leash-with-steve-white%ef%bf%bc/
URL:https://tagteachmembers.com/events/fixing-poisoned-cues-at-both-ends-of-the-leash-with-steve-white%ef%bf%bc/
END:VEVENT
END:VCALENDAR