BEGIN:VCALENDAR
VERSION:2.0
PRODID:-//eventon.com NONSGML v1.0//EN
CALSCALE:GREGORIAN
METHOD:PUBLISH
BEGIN:VEVENT
UID:69e8ada1a1c3d
DTSTAMP:20260422T111441Z
DTSTART:20260415T220000Z
DTEND:20260415T230000Z
LOCATION:
SUMMARY:Theresa Time Meet Up
DESCRIPTION:Theresa Time Meet Up\nhttps://tagteachmembers.com/events/theres
 a-time-meet-up-27/
URL:https://tagteachmembers.com/events/theresa-time-meet-up-27/
END:VEVENT
END:VCALENDAR