BEGIN:VCALENDAR
VERSION:2.0
PRODID:-//eventon.com NONSGML v1.0//EN
CALSCALE:GREGORIAN
METHOD:PUBLISH
BEGIN:VEVENT
UID:69e89f2a2bbc7
DTSTAMP:20260422T101258Z
DTSTART:20260520T170000Z
DTEND:20260520T180000Z
LOCATION:
SUMMARY:Theresa Time Meet Up
DESCRIPTION:Theresa Time Meet Up\nhttps://tagteachmembers.com/events/theres
 a-time-meet-up-28/
URL:https://tagteachmembers.com/events/theresa-time-meet-up-28/
END:VEVENT
END:VCALENDAR