BEGIN:VCALENDAR
VERSION:2.0
PRODID:-//eventon.com NONSGML v1.0//EN
CALSCALE:GREGORIAN
METHOD:PUBLISH
BEGIN:VEVENT
UID:69e87f9f71822
DTSTAMP:20260422T075823Z
DTSTART:20261118T180000Z
DTEND:20261118T190000Z
LOCATION:
SUMMARY:Theresa Time Meet Up
DESCRIPTION:Theresa Time Meet Up\nhttps://tagteachmembers.com/events/theres
 a-time-meet-up-34/
URL:https://tagteachmembers.com/events/theresa-time-meet-up-34/
END:VEVENT
END:VCALENDAR